BEGIN:VCALENDAR
VERSION:2.0
PRODID:-//lag-selbsthilfe-bb - ECPv6.15.20//NONSGML v1.0//EN
CALSCALE:GREGORIAN
METHOD:PUBLISH
X-ORIGINAL-URL:https://lag-selbsthilfe-bb.de
X-WR-CALDESC:Veranstaltungen für lag-selbsthilfe-bb
REFRESH-INTERVAL;VALUE=DURATION:PT1H
X-Robots-Tag:noindex
X-PUBLISHED-TTL:PT1H
BEGIN:VTIMEZONE
TZID:Europe/Berlin
BEGIN:DAYLIGHT
TZOFFSETFROM:+0100
TZOFFSETTO:+0200
TZNAME:CEST
DTSTART:20230326T010000
END:DAYLIGHT
BEGIN:STANDARD
TZOFFSETFROM:+0200
TZOFFSETTO:+0100
TZNAME:CET
DTSTART:20231029T010000
END:STANDARD
BEGIN:DAYLIGHT
TZOFFSETFROM:+0100
TZOFFSETTO:+0200
TZNAME:CEST
DTSTART:20240331T010000
END:DAYLIGHT
BEGIN:STANDARD
TZOFFSETFROM:+0200
TZOFFSETTO:+0100
TZNAME:CET
DTSTART:20241027T010000
END:STANDARD
BEGIN:DAYLIGHT
TZOFFSETFROM:+0100
TZOFFSETTO:+0200
TZNAME:CEST
DTSTART:20250330T010000
END:DAYLIGHT
BEGIN:STANDARD
TZOFFSETFROM:+0200
TZOFFSETTO:+0100
TZNAME:CET
DTSTART:20251026T010000
END:STANDARD
END:VTIMEZONE
BEGIN:VEVENT
DTSTART;TZID=Europe/Berlin:20240612T100000
DTEND;TZID=Europe/Berlin:20240619T140000
DTSTAMP:20260420T233403
CREATED:20231214T083516Z
LAST-MODIFIED:20240207T074359Z
UID:1446-1718186400-1718805600@lag-selbsthilfe-bb.de
SUMMARY:Vorstandssitzung
DESCRIPTION:
URL:https://lag-selbsthilfe-bb.de/termin/vorstandssitzung-7/
LOCATION:Brandenburg
END:VEVENT
BEGIN:VEVENT
DTSTART;VALUE=DATE:20240623
DTEND;VALUE=DATE:20240627
DTSTAMP:20260420T233403
CREATED:20231214T083444Z
LAST-MODIFIED:20240212T082607Z
UID:1444-1719100800-1719446399@lag-selbsthilfe-bb.de
SUMMARY:Ständiger Ausschuss
DESCRIPTION:
URL:https://lag-selbsthilfe-bb.de/termin/staendiger-ausschuss-2/
LOCATION:Mainz
END:VEVENT
END:VCALENDAR