BEGIN:VCALENDAR
VERSION:2.0
PRODID:-//lag-selbsthilfe-bb - ECPv6.15.20//NONSGML v1.0//EN
CALSCALE:GREGORIAN
METHOD:PUBLISH
X-WR-CALNAME:lag-selbsthilfe-bb
X-ORIGINAL-URL:https://lag-selbsthilfe-bb.de
X-WR-CALDESC:Veranstaltungen für lag-selbsthilfe-bb
REFRESH-INTERVAL;VALUE=DURATION:PT1H
X-Robots-Tag:noindex
X-PUBLISHED-TTL:PT1H
BEGIN:VTIMEZONE
TZID:Europe/Berlin
BEGIN:DAYLIGHT
TZOFFSETFROM:+0100
TZOFFSETTO:+0200
TZNAME:CEST
DTSTART:20230326T010000
END:DAYLIGHT
BEGIN:STANDARD
TZOFFSETFROM:+0200
TZOFFSETTO:+0100
TZNAME:CET
DTSTART:20231029T010000
END:STANDARD
BEGIN:DAYLIGHT
TZOFFSETFROM:+0100
TZOFFSETTO:+0200
TZNAME:CEST
DTSTART:20240331T010000
END:DAYLIGHT
BEGIN:STANDARD
TZOFFSETFROM:+0200
TZOFFSETTO:+0100
TZNAME:CET
DTSTART:20241027T010000
END:STANDARD
BEGIN:DAYLIGHT
TZOFFSETFROM:+0100
TZOFFSETTO:+0200
TZNAME:CEST
DTSTART:20250330T010000
END:DAYLIGHT
BEGIN:STANDARD
TZOFFSETFROM:+0200
TZOFFSETTO:+0100
TZNAME:CET
DTSTART:20251026T010000
END:STANDARD
END:VTIMEZONE
BEGIN:VEVENT
DTSTART;TZID=Europe/Berlin:20240531T100000
DTEND;TZID=Europe/Berlin:20240531T170000
DTSTAMP:20260420T202049
CREATED:20240207T074808Z
LAST-MODIFIED:20240207T074808Z
UID:1479-1717149600-1717174800@lag-selbsthilfe-bb.de
SUMMARY:PC Kurs "Microsoft Office- Word"
DESCRIPTION:
URL:https://lag-selbsthilfe-bb.de/termin/pc-kurs-microsoft-office-word/
LOCATION:Bildungszentrum Erkner\, Seestraße 39\, Erkner\, Brandenburg\, 15537
END:VEVENT
END:VCALENDAR